Workbook

Sheet Naslovnica
A2: Dječji vrtić Selnički zvončići
A3: Bukovčak 1C
A4: 40314 Selnica
A7: T R O Š K O V N I K
A8: Jednostavna nabava
A10: Rekapitulacija:
A12: 1. | B12: Žitarice; proizvodi od žitarica | E12: UKUPNO: | G12: ='Žitarice;proizvodi od žitarica'!G23 -> 0
A13: 2. | B13: Ostale namirnice | E13: UKUPNO: | G13: ='Ostale namirnice'!G23 -> 0
A14: 3. | B14: Smrznuta riba | E14: UKUPNO: | G14: ='Smrznuta riba'!G9 -> 0
A15: 3. | B15: Smrznuto meso peradi | E15: UKUPNO: | G15: 0
A16: 4. | B16: Začini | E16: UKUPNO: | G16: =Začini!G16 -> 0
A17: 5. | B17: Dječja hrana i napitci | E17: UKUPNO: | G17: ='Dječja hrana i napitci'!G18 -> 0

Sheet Žitarice;proizvodi od žitarica
C1: Naziv | D1: Jed | F1: Cijena po | G1: UKUPNO
A2: Red. broj | B2: NAZIV ARTIKLA | C2: proizvođača | D2: Mjere | E2: Količina | F2: jed.mj.u Eur | G2: 5 X 6
C3: (upisati naziv) | F3: bez PDV-a
A4: 1 | B4: 2 | C4: 3 | D4: 4 | E4: 5 | F4: 6 | G4: 7
A5: 1. | B5: Kaša ječmena | D5: kg | E5: 25 | G5: =E5*F5 -> 0
A6: 2. | B6: Kaša heljdina | D6: kg | E6: 22 | G6: 0
A7: 3. | B7: Riža bijela | D7: kg | E7: 135 | G7: =E7*F7 -> 0
A8: 4. | B8: Kaša prosena | D8: kg | E8: 65 | G8: =E8*F8 -> 0
A9: 5. | B9: Pšenična krupica (gris) | D9: kg | E9: 35 | G9: =E9*F9 -> 0
A10: 6. | B10: Pšenično bijelo brašno - glatko | D10: kg | E10: 380 | G10: =E10*F10 -> 0
A11: 7. | B11: Pšenično bijelo brašno - oštro | D11: kg | E11: 35 | G11: =E11*F11 -> 0
A12: 8. | B12: Kukuruzno brašno | D12: kg | E12: 3 | G12: =E12*F12 -> 0
A13: 9. | B13: Kukuruzna krupica palenta | D13: kg | E13: 50 | G13: =E13*F13 -> 0
A14: 10. | B14: Kukuruzne pahuljice (cornflakes) | D14: kg | E14: 50 | G14: =E14*F14 -> 0
A15: 11. | B15: Kuglice za juhu, 90 g | D15: kom | E15: 200 | G15: =E15*F15 -> 0
A16: 12. | B16: Zobene pahuljice 500g | D16: kom | E16: 15 | G16: =E16*F16 -> 0
A17: 13. | B17: Špagete | D17: kg | E17: 20 | G17: =E17*F17 -> 0
A18: 14. | B18: Krušne mrvice 500g | D18: kom | E18: 20 | G18: =E18*F18 -> 0
A19: 15. | B19: Mlinci domaći 500g | D19: kom | E19: 60 | G19: =E19*F19 -> 0
C20: UKUPNO
C21: PDV 5%
C22: PDV 25 %
C23: UKUPNO IZNOS
B26: Ispuniti sve stavke troškovnika!

Sheet Ostale namirnice
C1: Naziv | D1: Jed | F1: Cijena po | G1: UKUPNO
A2: Red.br. | B2: NAZIV ARTIKLA | C2: proizvođača | D2: Mjere | E2: Količina | F2: jed.mj.u eur | G2: 5 X 6
C3: (upisti naziv) | F3: bez PDV-a
A4: 1 | B4: 2 | C4: 3 | D4: 4 | E4: 5 | F4: 6 | G4: 7
A5: 1. | B5: Suho voće grožđice | D5: kg | E5: 30 | G5: 0
A6: 2. | B6: Suho voće ananas kocka | D6: kg | E6: 20 | G6: 0
A7: 3. | B7: Suho voće banana čips | D7: kg | E7: 20 | G7: 0
A8: 4. | B8: Suho voće brusnica | D8: kg | E8: 20 | G8: 0
A9: 5. | B9: Keksi čajni kolutići 800g | D9: kom | E9: 85 | G9: =E9*F9 -> 0
A10: 6. | B10: Keksi sport | D10: kg | E10: 30 | G10: =E10*F10 -> 0
A11: 7. | B11: Piškote 400g | D11: kom | E11: 40 | G11: =E11*F11 -> 0
A12: 8. | B12: Suncokretovo ulje | D12: l | E12: 150 | G12: =E12*F12 -> 0
A13: 9. | B13: Šećer kristal | D13: kg | E13: 75 | G13: =E13*F13 -> 0
A14: 10. | B14: Vanil šećer 50g | D14: kom | E14: 50 | G14: =E14*F14 -> 0
A15: 11. | B15: Prašak za pecivo 60 g | D15: kom | E15: 75 | G15: =E15*F15 -> 0
A16: 12. | B16: Soda bikarbona | D16: kg | E16: 1 | G16: =E16*F16 -> 0
A17: 13. | B17: Pašteta jetrena 840g | D17: kom | E17: 5 | G17: =E17*F17 -> 0
A18: 14. | B18: Pašteta čajna | D18: kg | E18: 5 | G18: =E18*F18 -> 0
A19: 15. | B19: Tuna komadi u ulju | D19: kg | E19: 12 | G19: =E19*F19 -> 0
C20: UKUPNO | G20: =SUM(G5:G16) -> 0
C21: PDV 5 %
C22: PDV 25 %
C23: UKUPNO IZNOS
C25: Upisati % PDV (5,25)
B26: Ispuniti sve stavke troškovnika!

Sheet Smrznuta riba
C1: Naziv | D1: Jed | F1: Cijena po | G1: UKUPNO
A2: Red.br. | B2: NAZIV ARTIKLA | C2: proizvođača | D2: Mjere | E2: Količina | F2: jed.mj.u kn | G2: 5 X 6
C3: (upisti naziv) | F3: bez PDV-a
A4: 1 | B4: 2 | C4: 3 | D4: 4 | E4: 5 | F4: 6 | G4: 7
A5: 1. | B5: Smrznuti riblji štapići 18/1 | D5: kom | E5: 55 | G5: =E5*F5 -> 0
C6: UKUPNO | G6: =SUM(G5:G5) -> 0
C7: PDV 5 %
C8: PDV 25 %
C9: UKUPNO IZNOS

Sheet Smrznuto meso peradi
C1: Naziv | D1: Jed | F1: Cijena po | G1: UKUPNO
A2: Red.br. | B2: NAZIV ARTIKLA | C2: proizvođača | D2: Mjere | E2: Količina | F2: jed.mj.u kn | G2: 5 X 6
C3: (upisti naziv) | F3: bez PDV-a
A4: 1 | B4: 2 | C4: 3 | D4: 4 | E4: 5 | F4: 6 | G4: 7
A5: 1. | B5: Smrznuto pileće usitnjeno meso | D5: kg | E5: 100 | G5: =E5*F5 -> 0
C6: UKUPNO | G6: =SUM(G5:G5) -> 0
C7: PDV 5 %
C8: PDV 25 %
C9: UKUPNO IZNOS

Sheet Začini
C1: Naziv | D1: Jed | F1: Cijena po | G1: UKUPNO
A2: Red.br. | B2: NAZIV ARTIKLA | C2: proizvođača | D2: Mjere | E2: Količina | F2: jed.mj.u eur | G2: 5 X 6
C3: (upisti naziv) | F3: bez PDV-a
A4: 1 | B4: 2 | C4: 3 | D4: 4 | E4: 5 | F4: 6 | G4: 7
A5: 1. | B5: Dodatak jelima s povrćem (vegeta) | D5: kg | E5: 35 | G5: =E5*F5 -> 0
A6: 2. | B6: Slatka paprika crvena, mljevena | D6: kg | E6: 9 | G6: =E6*F6 -> 0
A7: 3. | B7: Sol morska sitna | D7: kg | E7: 30 | G7: =E7*F7 -> 0
A8: 4. | B8: Lovorov list sušeni 5g | D8: kom | E8: 15 | G8: =E8*F8 -> 0
A9: 5. | B9: Peršin sušeni 7g | D9: kom | E9: 15 | G9: =E9*F9 -> 0
A10: 6. | B10: Češnjak granulat 70g | D10: kom | E10: 10 | G10: =E10*F10 -> 0
A11: 7. | B11: Cimet mljeveni | D11: kg | E11: 1 | G11: =E11*F11 -> 0
A12: 8. | B12: Papar crni mljeveni | D12: kg | E12: 1 | G12: =E12*F12 -> 0
A13: 9. | B13: Orah mljeveni | D13: kg | E13: 2 | G13: =E13*F13 -> 0
C14: UKUPNO | G14: =SUM(G5:G13) -> 0
C15: PDV % | G15: =(G14*F15)/100 -> 0
C16: UKUPNO IZNOS | G16: =G14+G15 -> 0

Sheet Dječja hrana i napitci
C1: Naziv | D1: Jed | F1: Cijena po | G1: UKUPNO
A2: Red.br. | B2: NAZIV ARTIKLA | C2: proizvođača | D2: Mjere | E2: Količina | F2: jed.mj.u eur | G2: 5 X 6
C3: (upisti naziv) | F3: bez PDV-a
A4: 1 | B4: 2 | C4: 3 | D4: 4 | E4: 5 | F4: 6 | G4: 7
A5: 1. | B5: Krem namaz od čokolade i lješnjaka Lino lada duo ili "jednakovrijedan" | D5: kg | E5: 10 | G5: =E5*F5 -> 0
A6: 2. | B6: Čaj kamilica 20/1 | D6: kom | E6: 40 | G6: =E6*F6 -> 0
A7: 3. | B7: Čaj šumsko voće 20/1 | D7: kom | E7: 40 | G7: =E7*F7 -> 0
A8: 4. | B8: Čaj borovnica 20/1 | D8: kom | E8: 5
A9: 5. | B9: Čoko drink 800 g ili jednakovrijedan | D9: kom | E9: 15 | G9: =E9*F9 -> 0
A10: 6. | B10: Čoko pahuljice 250g | D10: kom | E10: 220 | G10: =E10*F10 -> 0
A11: 7. | B11: Sirup od naranče | D11: l | E11: 10 | G11: =E11*F11 -> 0
B12: Cikorija divka | D12: kg | E12: 2 | G12: =E12*F12 -> 0
A13: 8. | B13: Puding čokolada 1 kg | D13: kom | E13: 5 | G13: =E13*F13 -> 0
A14: 9. | B14: Puding vanilija 1 kg | D14: kom | E14: 7 | G14: =E14*F14 -> 0
C15: UKUPNO | G15: =SUM(G5:G14) -> 0
C16: PDV 5 %
C17: PDV 25 %
C18: UKUPNO IZNOS
B20: Ispuniti sve stavke troškovnika! | C20: Upisati PDV!
